BEGIN:VCALENDAR
VERSION:2.0
PRODID:-//Together in Fitness, LLC - ECPv6.15.20//NONSGML v1.0//EN
CALSCALE:GREGORIAN
METHOD:PUBLISH
X-WR-CALNAME:Together in Fitness, LLC
X-ORIGINAL-URL:https://togetherinfitness.com
X-WR-CALDESC:Events for Together in Fitness, LLC
REFRESH-INTERVAL;VALUE=DURATION:PT1H
X-Robots-Tag:noindex
X-PUBLISHED-TTL:PT1H
BEGIN:VTIMEZONE
TZID:America/New_York
BEGIN:DAYLIGHT
TZOFFSETFROM:-0500
TZOFFSETTO:-0400
TZNAME:EDT
DTSTART:20220313T070000
END:DAYLIGHT
BEGIN:STANDARD
TZOFFSETFROM:-0400
TZOFFSETTO:-0500
TZNAME:EST
DTSTART:20221106T060000
END:STANDARD
BEGIN:DAYLIGHT
TZOFFSETFROM:-0500
TZOFFSETTO:-0400
TZNAME:EDT
DTSTART:20230312T070000
END:DAYLIGHT
BEGIN:STANDARD
TZOFFSETFROM:-0400
TZOFFSETTO:-0500
TZNAME:EST
DTSTART:20231105T060000
END:STANDARD
BEGIN:DAYLIGHT
TZOFFSETFROM:-0500
TZOFFSETTO:-0400
TZNAME:EDT
DTSTART:20240310T070000
END:DAYLIGHT
BEGIN:STANDARD
TZOFFSETFROM:-0400
TZOFFSETTO:-0500
TZNAME:EST
DTSTART:20241103T060000
END:STANDARD
END:VTIMEZONE
BEGIN:VEVENT
DTSTART;TZID=America/New_York:20230702T083000
DTEND;TZID=America/New_York:20230702T091000
DTSTAMP:20260423T125322
CREATED:20230702T132022Z
LAST-MODIFIED:20230702T132030Z
UID:9693-1688286600-1688289000@togetherinfitness.com
SUMMARY:Cardio Kickboxing HIIT
DESCRIPTION:Are you a TiF member? Log in here \n\n\n\n\nBest cardio workout EVER! In this cardio kickboxing class\, we will combine martial arts techniques with fast-paced cardio. This high energy workout challenges the beginner and advanced alike. You can expect to build stamina and improve coordination and flexibility. Further\, you will burn calories as you build lean muscle with this fun and challenging workout. Lastly\, I will guide you through a core segment and cool down that will have you ready to tackle your day.
URL:https://togetherinfitness.com/event/cardio-kickboxing-hiit-2/
CATEGORIES:kickboxing
ATTACH;FMTTYPE=image/jpeg:https://togetherinfitness.s3.us-east-2.amazonaws.com/2022/08/IMG_2129-1.jpg
ORGANIZER;CN="Tiffany":MAILTO:tiffany@togetherinfitness.com
END:VEVENT
BEGIN:VEVENT
DTSTART;TZID=America/New_York:20230709T090000
DTEND;TZID=America/New_York:20230709T100000
DTSTAMP:20260423T125322
CREATED:20230625T142010Z
LAST-MODIFIED:20230709T162926Z
UID:9668-1688893200-1688896800@togetherinfitness.com
SUMMARY:Cardio Kickboxing and Core
DESCRIPTION:Are you a TiF member? Log in here \n\n\n\n\nBest cardio workout EVER! In this cardio kickboxing class\, we will combine martial arts techniques with fast-paced cardio. This high energy workout challenges the beginner and advanced alike. You can expect to build stamina and improve coordination and flexibility. Further\, you will burn calories as you build lean muscle with this fun and challenging workout. Lastly\, I will guide you through a core segment and cool down that will have you ready to tackle your day.
URL:https://togetherinfitness.com/event/cardio-kickboxing-hiit/
CATEGORIES:kickboxing
ATTACH;FMTTYPE=image/jpeg:https://togetherinfitness.s3.us-east-2.amazonaws.com/2022/08/IMG_2129-1.jpg
ORGANIZER;CN="Tiffany":MAILTO:tiffany@togetherinfitness.com
END:VEVENT
BEGIN:VEVENT
DTSTART;TZID=America/New_York:20230723T090000
DTEND;TZID=America/New_York:20230723T094000
DTSTAMP:20260423T125322
CREATED:20230723T141204Z
LAST-MODIFIED:20230723T141215Z
UID:9844-1690102800-1690105200@togetherinfitness.com
SUMMARY:Cardio Kickboxing HIIT and Core
DESCRIPTION:Are you a TiF member? Log in here
URL:https://togetherinfitness.com/event/cardio-kickboxing-hiit-and-core-3/
CATEGORIES:core,kickboxing
ATTACH;FMTTYPE=image/jpeg:https://togetherinfitness.s3.us-east-2.amazonaws.com/2022/08/IMG_2129-1.jpg
ORGANIZER;CN="Tiffany":MAILTO:tiffany@togetherinfitness.com
END:VEVENT
BEGIN:VEVENT
DTSTART;TZID=America/New_York:20230730T090000
DTEND;TZID=America/New_York:20230730T100000
DTSTAMP:20260423T125322
CREATED:20230720T110652Z
LAST-MODIFIED:20230730T141818Z
UID:9828-1690707600-1690711200@togetherinfitness.com
SUMMARY:Cardio Kickboxing and Core
DESCRIPTION:Are you a TiF member? Log in here
URL:https://togetherinfitness.com/event/cardio-kickboxing-hiit-and-core-2/
CATEGORIES:core,kickboxing
ATTACH;FMTTYPE=image/jpeg:https://togetherinfitness.s3.us-east-2.amazonaws.com/2022/08/IMG_2129-1.jpg
ORGANIZER;CN="Tiffany":MAILTO:tiffany@togetherinfitness.com
END:VEVENT
END:VCALENDAR